BEGIN:VCALENDAR
VERSION:2.0
PRODID:-//hacksw/handcal//NONSGML v1.0//EN
CALSCALE:GREGORIAN
BEGIN:VEVENT
LOCATION:Tagungszentrum Schloss Herrenhausen\, Hannover
DESCRIPTION:Das jährliche Treffen der Geförderten in den personenbezogenen Initiativen der VolkswagenStiftung findet am 11. und 12. Juni 2026 im Schloss Herrenhausen in Hannover statt.

DTSTART:20260611T103000
DTEND:20260612T140000
SUMMARY:Gefördertentreffen 2026
URL;VALUE=URI:https://www.volkswagenstiftung.com/de/veranstaltungen/gefoerdertentreffen-2026
DTSTAMP:20260420T101912Z
UID:69e5e1803739b
END:VEVENT
END:VCALENDAR