BEGIN:VCALENDAR
VERSION:2.0
PRODID:-//hacksw/handcal//NONSGML v1.0//EN
CALSCALE:GREGORIAN
BEGIN:VEVENT
LOCATION:Schloss Herrenhausen\, Hannover
DESCRIPTION:Im Workshop am 8./9. Dezember 2025 werden von ausgewählten Projektteams Maßnahmen für die nachhaltige Nutzung wissenschaftlicher Geräte vorgestellt und diskutiert.

DTSTART:20251208T120000
DTEND:20251209T150000
SUMMARY:Forschungsgeräte nachhaltig nutzen: Workshop zur Weiterentwicklung von Best Practice Beispielen
URL;VALUE=URI:https://www.volkswagenstiftung.com/de/veranstaltungen/forschungsgeraete-nachhaltig-nutzen-workshop-zur-weiterentwicklung-von-best-practice-beispielen
DTSTAMP:20260420T095134Z
UID:69e5db061665f
END:VEVENT
END:VCALENDAR