BEGIN:VCALENDAR
VERSION:2.0
PRODID:-//hacksw/handcal//NONSGML v1.0//EN
CALSCALE:GREGORIAN
BEGIN:VEVENT
LOCATION:Herrenhausen Palace\, Hannover
DESCRIPTION:The interdisciplinary Keystone Symposium combines immunology\, genomics and biophysics to open up new perspectives on the role of myeloid cells and promote innovative research collaborations. It will take place from March 4 to 6 in Hannover.

DTSTART:20250304T090000
DTEND:20250306T180000
SUMMARY:Myeloid Cells: Roles in Different Tissue Microenvironments (Keystone Symposia)
URL;VALUE=URI:https://www.volkswagenstiftung.com/de/veranstaltungen/myeloid-cells-roles-different-tissue-microenvironments-keystone-symposia
DTSTAMP:20260420T062012Z
UID:69e5a97c31fc2
END:VEVENT
END:VCALENDAR