BEGIN:VCALENDAR
VERSION:2.0
PRODID:-//hacksw/handcal//NONSGML v1.0//EN
CALSCALE:GREGORIAN
BEGIN:VEVENT
LOCATION:Xplanatorium Herrenhausen
DESCRIPTION:Demenzerkrankungen sind für Betroffene aber auch die Gesellschaft insgesamt eine große Belastung. Wo die Wissenschaft steht und welche Herausforderungen auf uns alle zukommen\, diskutieren Expert:innen am 23. März in Hannover.

DTSTART:20230323T190000
DTEND:20230323T210000
SUMMARY:Diagnose "Alzheimer" - Eine Herausforderung für die alternde Gesellschaft
URL;VALUE=URI:https://www.volkswagenstiftung.com/de/veranstaltungen/diagnose-alzheimer-eine-herausforderung-fuer-die-alternde-gesellschaft
DTSTAMP:20260420T000959Z
UID:69e552b7d846f
END:VEVENT
END:VCALENDAR